BEGIN:VCALENDAR
VERSION:2.0
PRODID:-//Classic Rock 96.5 - ECPv5.6.0//NONSGML v1.0//EN
CALSCALE:GREGORIAN
METHOD:PUBLISH
X-WR-CALNAME:Classic Rock 96.5
X-ORIGINAL-URL:https://www.classicrock965.fm
X-WR-CALDESC:Events for Classic Rock 96.5
BEGIN:VTIMEZONE
TZID:America/New_York
BEGIN:DAYLIGHT
TZOFFSETFROM:-0500
TZOFFSETTO:-0400
TZNAME:EDT
DTSTART:20230312T070000
END:DAYLIGHT
BEGIN:STANDARD
TZOFFSETFROM:-0400
TZOFFSETTO:-0500
TZNAME:EST
DTSTART:20231105T060000
END:STANDARD
END:VTIMEZONE
BEGIN:VEVENT
DTSTART;TZID=America/New_York:20230203T110000
DTEND;TZID=America/New_York:20230203T200000
DTSTAMP:20260423T101801
CREATED:20230102T144252Z
LAST-MODIFIED:20230102T145158Z
UID:69172-1675422000-1675454400@www.classicrock965.fm
SUMMARY:Richmond RV Show
DESCRIPTION:
URL:https://www.classicrock965.fm/event/richmond-rv-show/2023-02-03/
LOCATION:Richmond Raceway Complex
ATTACH;FMTTYPE=image/jpeg:https://dehayf5mhw1h7.cloudfront.net/wp-content/uploads/sites/1853/2023/01/02094235/RV.jpg
END:VEVENT
BEGIN:VEVENT
DTSTART;TZID=America/New_York:20230317T110000
DTEND;TZID=America/New_York:20230317T190000
DTSTAMP:20260423T101801
CREATED:20230301T164902Z
LAST-MODIFIED:20230301T164902Z
UID:69611-1679050800-1679079600@www.classicrock965.fm
SUMMARY:Mid-Atlantic RV Expo 2023
DESCRIPTION:Virginia’s largest RV Expo held just outside of Richmond\, Virginia at Meadow Event Park home of the Virginia State Fair. More RV dealers than any other expo in Virginia\, sponsored by the Virginia Campground Association.
URL:https://www.classicrock965.fm/event/mid-atlantic-rv-expo-2023/2023-03-17/
LOCATION:The Atlantic Union Bank After Hours at the SERVPRO Pavilion\, 13191 Dawn Boulevard\, Doswell\, VA\, 23047\, United States
ATTACH;FMTTYPE=image/jpeg:https://dehayf5mhw1h7.cloudfront.net/wp-content/uploads/sites/1853/2023/03/01114821/MidAtlRVExpo.jpg
GEO:37.8523626;-77.4237592
X-APPLE-STRUCTURED-LOCATION;VALUE=URI;X-ADDRESS=The Atlantic Union Bank After Hours at the SERVPRO Pavilion 13191 Dawn Boulevard Doswell VA 23047 United States;X-APPLE-RADIUS=500;X-TITLE=13191 Dawn Boulevard:geo:-77.4237592,37.8523626
END:VEVENT
BEGIN:VEVENT
DTSTART;VALUE=DATE:20230402
DTEND;VALUE=DATE:20230403
DTSTAMP:20260423T101801
CREATED:20230313T135312Z
LAST-MODIFIED:20230329T155921Z
UID:69735-1680393600-1680479999@www.classicrock965.fm
SUMMARY:2023 Spring NASCAR Cup Series: Toyota Owners 400
DESCRIPTION:6:00 AM – 12:30 PM\nMaster the Mezz Stair Climb & Post-Challenge Party (Grandstands & Virginia Credit Union LIVE!)\n\n\n\n9:00 AM\nParking Lots & Midway Open\n\n\n\n10:30 AM – 10:45 AM\nBJ McLeod Q&A at NASCAR Experience (Midway)\n\n\n\n11:00 AM – 11:45 AM\nRICHMOND NATION Season Ticket Holder Reception (FanGrounds)*\n\n\n\n12:00 PM\nGates\, Ally Torque Club\, FanGrounds\, Victory Lane Club & Suites Open\n\n\n\n12:30 PM – 12:45 PM\nJoey Logano Q&A at NASCAR Experience (Midway)\n\n\n\n1:00 PM – 1:15 PM\nMartin Truex Jr. Q&A in FanGrounds Entertainment Plaza (FanGrounds)*\n\n\n\n3:30 PM\nToyota Owners 400 NCS Race
URL:https://www.classicrock965.fm/event/2023-spring-nascar-cup-series-toyota-owners-400/
LOCATION:Richmond Raceway\, 600 E. Laburnum Ave.\, Richmond\, 23222
CATEGORIES:Community Events
ATTACH;FMTTYPE=image/jpeg:https://dehayf5mhw1h7.cloudfront.net/wp-content/uploads/sites/1853/2023/03/13095106/Nascarlarge.jpg
GEO:37.5863618;-77.422459
X-APPLE-STRUCTURED-LOCATION;VALUE=URI;X-ADDRESS=Richmond Raceway 600 E. Laburnum Ave. Richmond 23222;X-APPLE-RADIUS=500;X-TITLE=600 E. Laburnum Ave.:geo:-77.422459,37.5863618
END:VEVENT
BEGIN:VEVENT
DTSTART;TZID=America/New_York:20230505T180000
DTEND;TZID=America/New_York:20230505T213000
DTSTAMP:20260423T101801
CREATED:20230423T223643Z
LAST-MODIFIED:20230423T223643Z
UID:70013-1683309600-1683322200@www.classicrock965.fm
SUMMARY:Snail Mail with Water From Your Eyes and Dazy at Friday Cheers
DESCRIPTION:
URL:https://www.classicrock965.fm/event/snail-mail-with-water-from-your-eyes-and-dazy-at-friday-cheers/
LOCATION:Brown’s Island\, VA\, United States
ATTACH;FMTTYPE=image/jpeg:https://dehayf5mhw1h7.cloudfront.net/wp-content/uploads/sites/1853/2023/04/23182337/SnailMaillrg.jpg
END:VEVENT
BEGIN:VEVENT
DTSTART;VALUE=DATE:20230519
DTEND;VALUE=DATE:20230522
DTSTAMP:20260423T101801
CREATED:20230308T173404Z
LAST-MODIFIED:20230308T173404Z
UID:69700-1684454400-1684713599@www.classicrock965.fm
SUMMARY:PUNGO OFFROAD MONSTERS ON THE BEACH
DESCRIPTION:
URL:https://www.classicrock965.fm/event/pungo-offroad-monsters-on-the-beach/
LOCATION:Virginia Beach Oceanfront\, 6th Street & Boardwalk\, Virginia Beach\, VA\, 23451\, United States
CATEGORIES:Community Events
ATTACH;FMTTYPE=image/png:https://dehayf5mhw1h7.cloudfront.net/wp-content/uploads/sites/1853/2023/03/08105217/monstersbeachlarge.png
END:VEVENT
BEGIN:VEVENT
DTSTART;TZID=America/New_York:20230530T190000
DTEND;TZID=America/New_York:20230530T220000
DTSTAMP:20260423T101801
CREATED:20230306T123219Z
LAST-MODIFIED:20230306T123219Z
UID:69671-1685473200-1685484000@www.classicrock965.fm
SUMMARY:Boz Scaggs at Dominion Energy Center
DESCRIPTION:Tickets on sale now.
URL:https://www.classicrock965.fm/event/boz-scaggs-at-dominion-energy-center/
LOCATION:Dominion Energy Center\, 600 East Grace Street\, Richmond\, VA\, 23219\, United States
CATEGORIES:Concert
ATTACH;FMTTYPE=image/png:https://dehayf5mhw1h7.cloudfront.net/wp-content/uploads/sites/1853/2023/03/06073047/Boz.png
END:VEVENT
BEGIN:VEVENT
DTSTART;TZID=America/New_York:20230602T140000
DTEND;TZID=America/New_York:20230602T203000
DTSTAMP:20260423T101801
CREATED:20230602T180000Z
LAST-MODIFIED:20230509T132804Z
UID:69922-1685714400-1685737800@www.classicrock965.fm
SUMMARY:38 Special at Veterans Band Aid Music Festival
DESCRIPTION:To benefit Coastal Authority Care Foundation
URL:https://www.classicrock965.fm/event/38-special-at-veterans-band-aid-music-festival/
LOCATION:Holiday Trav-L-Park\, 1075 General Booth Boulevard\, Virginia Beach\, Virginia
CATEGORIES:Concert
ATTACH;FMTTYPE=image/jpeg:https://dehayf5mhw1h7.cloudfront.net/wp-content/uploads/sites/1853/2023/04/10100934/38SpecialBig.jpg
GEO:36.8051905;-75.9958033
X-APPLE-STRUCTURED-LOCATION;VALUE=URI;X-ADDRESS=Holiday Trav-L-Park 1075 General Booth Boulevard Virginia Beach Virginia;X-APPLE-RADIUS=500;X-TITLE=1075 General Booth Boulevard:geo:-75.9958033,36.8051905
END:VEVENT
BEGIN:VEVENT
DTSTART;VALUE=DATE:20230609
DTEND;VALUE=DATE:20230610
DTSTAMP:20260423T101801
CREATED:20230609T040000Z
LAST-MODIFIED:20230612T145553Z
UID:70310-1686268800-1686355199@www.classicrock965.fm
SUMMARY:Special Olympics Summer Games 2023
DESCRIPTION:The Special Olympics Virginia Summer Games are the largest annual competition for Special Olympics athletes in the state of Virginia. \nThis year’s event will take place in Richmond\, Virginia from June 9-10\, 2023. The Games will feature over 1\,200 athletes from across Virginia competing in a variety of sports such as swimming\, track and field\, tennis and more. \nKNOW BEFORE YOU GO \nLEARN ABOUT VOLUNTEER OPPORTUNITIES
URL:https://www.classicrock965.fm/event/special-olympics-summer-games-2023/
LOCATION:University of Richmond Robins Center\, 23B Boatwright Dr\, Henrico\, VA\, 23229\, United States
ATTACH;FMTTYPE=image/jpeg:https://dehayf5mhw1h7.cloudfront.net/wp-content/uploads/sites/1853/2023/05/25105925/SpecialOlympicsLarge.jpg
END:VEVENT
BEGIN:VEVENT
DTSTART;TZID=America/New_York:20230609T180000
DTEND;TZID=America/New_York:20230609T213000
DTSTAMP:20260423T101801
CREATED:20230424T124146Z
LAST-MODIFIED:20230424T124146Z
UID:70026-1686333600-1686346200@www.classicrock965.fm
SUMMARY:Watchhouse with Palmyra at Friday Cheers
DESCRIPTION:
URL:https://www.classicrock965.fm/event/watchhouse-with-palmyra-at-friday-cheers/
LOCATION:Brown’s Island\, VA\, United States
CATEGORIES:Concert
ATTACH;FMTTYPE=image/jpeg:https://dehayf5mhw1h7.cloudfront.net/wp-content/uploads/sites/1853/2023/04/24084055/Watchhouse.jpg
END:VEVENT
BEGIN:VEVENT
DTSTART;VALUE=DATE:20230610
DTEND;VALUE=DATE:20230611
DTSTAMP:20260423T101801
CREATED:20230609T040000Z
LAST-MODIFIED:20230612T134041Z
UID:70410-1686355200-1686441599@www.classicrock965.fm
SUMMARY:Special Olympics Summer Games 2023
DESCRIPTION:The Special Olympics Virginia Summer Games are the largest annual competition for Special Olympics athletes in the state of Virginia. \nThis year’s event will take place in Richmond\, Virginia from June 9-10\, 2023. The Games will feature over 1\,200 athletes from across Virginia competing in a variety of sports such as swimming\, track and field\, tennis and more. \nKNOW BEFORE YOU GO \nLEARN ABOUT VOLUNTEER OPPORTUNITIES
URL:https://www.classicrock965.fm/event/special-olympics-summer-games-2023-2023-06-10/2023-06-10/
LOCATION:University of Richmond Robins Center\, 23B Boatwright Dr\, Henrico\, VA\, 23229\, United States
ATTACH;FMTTYPE=image/jpeg:https://dehayf5mhw1h7.cloudfront.net/wp-content/uploads/sites/1853/2023/05/25105925/SpecialOlympicsLarge.jpg
END:VEVENT
BEGIN:VEVENT
DTSTART;TZID=America/New_York:20230616T180000
DTEND;TZID=America/New_York:20230616T213000
DTSTAMP:20260423T101801
CREATED:20230424T125631Z
LAST-MODIFIED:20230424T125631Z
UID:70029-1686938400-1686951000@www.classicrock965.fm
SUMMARY:Tank and the Bangas with Piranha Rama at Friday Cheers
DESCRIPTION:
URL:https://www.classicrock965.fm/event/tank-and-the-bangas-with-piranha-rama-at-friday-cheers/
LOCATION:Brown’s Island\, VA\, United States
CATEGORIES:Concert
ATTACH;FMTTYPE=image/jpeg:https://dehayf5mhw1h7.cloudfront.net/wp-content/uploads/sites/1853/2023/04/24084947/Untitled-2-Recovered.jpg
END:VEVENT
BEGIN:VEVENT
DTSTART;TZID=America/New_York:20230617T120000
DTEND;TZID=America/New_York:20230617T180000
DTSTAMP:20260423T101801
CREATED:20230605T121957Z
LAST-MODIFIED:20230620T154027Z
UID:70375-1687003200-1687024800@www.classicrock965.fm
SUMMARY:Down on the Farm Wing Fest at Hanover Vegetable Farm
DESCRIPTION:Live Music\, classic cars\, cold adult beverages AND WINGS!!!! \nSome of the best food trucks in Richmond will compete for “BEST WINGS IN RVA” \nAdvanced tickets:\n$15 ($20 at the gate)\nKids 12 and under are free.\n(This event is limited to 3\,000 attendees. Get your tickets before they sell out) \n \n 
URL:https://www.classicrock965.fm/event/down-on-the-farm-wing-fest-at-hanover-vegetable-farm/
LOCATION:Hanover Vegetable Farm\, 13580 Ashland Rd\, Ashland\, VA\, 23005\, United States
CATEGORIES:Concert
ATTACH;FMTTYPE=image/jpeg:https://dehayf5mhw1h7.cloudfront.net/wp-content/uploads/sites/1853/2023/06/05121957/WingFest2023lg.jpg
END:VEVENT
BEGIN:VEVENT
DTSTART;TZID=America/New_York:20230620T193000
DTEND;TZID=America/New_York:20230620T220000
DTSTAMP:20260423T101801
CREATED:20230320T103753Z
LAST-MODIFIED:20230329T155754Z
UID:69782-1687289400-1687298400@www.classicrock965.fm
SUMMARY:Justin Hayward at Dominion Energy Center
DESCRIPTION:Tickets on sale now!
URL:https://www.classicrock965.fm/event/justin-hayward-at-dominion-energy-center/
LOCATION:Dominion Energy Center\, 600 East Grace Street\, Richmond\, VA\, 23219\, United States
CATEGORIES:Concert
ATTACH;FMTTYPE=image/png:https://dehayf5mhw1h7.cloudfront.net/wp-content/uploads/sites/1853/2023/03/20063445/JustinHayward_1000x563.png
END:VEVENT
BEGIN:VEVENT
DTSTART;TZID=America/New_York:20230707T170000
DTEND;TZID=America/New_York:20230707T220000
DTSTAMP:20260423T101801
CREATED:20230707T210000Z
LAST-MODIFIED:20230612T134238Z
UID:69668-1688749200-1688767200@www.classicrock965.fm
SUMMARY:Get The Led Out at Chesterfield After Hours
DESCRIPTION:Tickets on sale Friday\, March 10!
URL:https://www.classicrock965.fm/event/get-the-led-out-at-chesterfield-after-hours/
LOCATION:SERVPRO of Chesterfield After Hours\, 13030 Genito Road\, Midlothian\, VA\, 23112\, United States
CATEGORIES:Concert
ATTACH;FMTTYPE=image/jpeg:https://dehayf5mhw1h7.cloudfront.net/wp-content/uploads/sites/1853/2023/03/06072740/GTLOWeb.jpg
GEO:37.4544293;-77.6344833
X-APPLE-STRUCTURED-LOCATION;VALUE=URI;X-ADDRESS=SERVPRO of Chesterfield After Hours 13030 Genito Road Midlothian VA 23112 United States;X-APPLE-RADIUS=500;X-TITLE=13030 Genito Road:geo:-77.6344833,37.4544293
END:VEVENT
BEGIN:VEVENT
DTSTART;TZID=America/New_York:20230726T173000
DTEND;TZID=America/New_York:20230726T220000
DTSTAMP:20260423T101801
CREATED:20230313T140034Z
LAST-MODIFIED:20230329T155822Z
UID:69723-1690392600-1690408800@www.classicrock965.fm
SUMMARY:Counting Crows with Dashboard Confessional at After Hours Concert Series
DESCRIPTION:Tickets on sale Friday\, March 17 at 10AM
URL:https://www.classicrock965.fm/event/counting-crows-with-dashboard-confessional-at-after-hours-concert-series/
LOCATION:The Atlantic Union Bank After Hours at the SERVPRO Pavilion\, 13191 Dawn Boulevard\, Doswell\, VA\, 23047\, United States
CATEGORIES:Concert
ATTACH;FMTTYPE=image/jpeg:https://dehayf5mhw1h7.cloudfront.net/wp-content/uploads/sites/1853/2023/03/12082107/CountingCrowslarge.jpg
GEO:37.8523626;-77.4237592
X-APPLE-STRUCTURED-LOCATION;VALUE=URI;X-ADDRESS=The Atlantic Union Bank After Hours at the SERVPRO Pavilion 13191 Dawn Boulevard Doswell VA 23047 United States;X-APPLE-RADIUS=500;X-TITLE=13191 Dawn Boulevard:geo:-77.4237592,37.8523626
END:VEVENT
BEGIN:VEVENT
DTSTART;TZID=America/New_York:20230729T140000
DTEND;TZID=America/New_York:20230729T180000
DTSTAMP:20260423T101801
CREATED:20230705T023457Z
LAST-MODIFIED:20230705T023457Z
UID:70621-1690639200-1690653600@www.classicrock965.fm
SUMMARY:Beer\, Bourbon\, and BBQ Festival
DESCRIPTION:
URL:https://www.classicrock965.fm/event/beer-bourbon-and-bbq-festival/
LOCATION:The Atlantic Union Bank After Hours at the SERVPRO Pavilion\, 13191 Dawn Boulevard\, Doswell\, VA\, 23047\, United States
CATEGORIES:Community Events
ATTACH;FMTTYPE=image/jpeg:https://dehayf5mhw1h7.cloudfront.net/wp-content/uploads/sites/1853/2023/07/04223253/beerboubonbbq.jpg
GEO:37.8523626;-77.4237592
X-APPLE-STRUCTURED-LOCATION;VALUE=URI;X-ADDRESS=The Atlantic Union Bank After Hours at the SERVPRO Pavilion 13191 Dawn Boulevard Doswell VA 23047 United States;X-APPLE-RADIUS=500;X-TITLE=13191 Dawn Boulevard:geo:-77.4237592,37.8523626
END:VEVENT
BEGIN:VEVENT
DTSTART;TZID=America/New_York:20230823T200000
DTEND;TZID=America/New_York:20230823T230000
DTSTAMP:20260423T101801
CREATED:20230710T142548Z
LAST-MODIFIED:20230831T143339Z
UID:70660-1692820800-1692831600@www.classicrock965.fm
SUMMARY:Jason Bonham's Led Zeppelin Experience
DESCRIPTION:
URL:https://www.classicrock965.fm/event/jason-bonhams-led-zeppelin-experience/
LOCATION:Carpenter Theater\, Richmond\, VA\, United States
CATEGORIES:Concert
ATTACH;FMTTYPE=image/jpeg:https://dehayf5mhw1h7.cloudfront.net/wp-content/uploads/sites/1853/2023/07/10090129/JasonBonham.jpg
END:VEVENT
BEGIN:VEVENT
DTSTART;VALUE=DATE:20230825
DTEND;VALUE=DATE:20230903
DTSTAMP:20260423T101801
CREATED:20230803T184110Z
LAST-MODIFIED:20230803T184110Z
UID:70883-1692921600-1693699199@www.classicrock965.fm
SUMMARY:Chesterfield County Fair
DESCRIPTION:The Chesterfield County Fair Association would like to invite everyone to come out and support the 112th Annual Chesterfield County Fair. We’re counting on you\, our fairgoers\, volunteers\, sponsors\, exhibitors\, and members\, to uphold the tradition of the Chesterfield County Fair as one of Virginia’s best fair experiences.\nFair Hours\n\n\n\nMonday-Friday: 5 – 11 p.m.\nFriday\, Sept 1: 11 a.m. – 11 p.m.\nSaturday-Sunday: 11 a.m. – 11 p.m\n\n\n\nInclement Weather Policy\nIf weather forces closure of the Fair\, those in attendance may get their hand stamped for re-entry to the fair that same day.\nNo refunds or re-admission for another day will be provided. The Chesterfield County Fair Association does not handle the midway rides and cannot provide refunds for them.
URL:https://www.classicrock965.fm/event/chesterfield-county-fair/
LOCATION:10300 Courthouse Road\, Chesterfield\, VA
CATEGORIES:Community Events
ATTACH;FMTTYPE=image/jpeg:https://dehayf5mhw1h7.cloudfront.net/wp-content/uploads/sites/1853/2023/08/03144027/ChesterfieldCountyFair.jpg
END:VEVENT
BEGIN:VEVENT
DTSTART;TZID=America/New_York:20230825T183000
DTEND;TZID=America/New_York:20230825T220000
DTSTAMP:20260423T101801
CREATED:20230320T140057Z
LAST-MODIFIED:20230605T122147Z
UID:69779-1692988200-1693000800@www.classicrock965.fm
SUMMARY:3 Doors Down with special guest Candlebox in Virginia Beach
DESCRIPTION:Tickets on sale Friday\, March 24 at 10AM. \nIntimate pavilion show only.
URL:https://www.classicrock965.fm/event/3-doors-down-with-special-guest-candlebox-in-virginia-beach/
LOCATION:Veterans United Home Loans Amphitheater\, 3550 Cellar Door Way\, Virginia Beach\, VA\, 23456\, United States
CATEGORIES:Concert
ATTACH;FMTTYPE=image/jpeg:https://dehayf5mhw1h7.cloudfront.net/wp-content/uploads/sites/1853/2023/03/20062713/3DoorsDownLg.jpg
GEO:36.7691045;-76.1039103
X-APPLE-STRUCTURED-LOCATION;VALUE=URI;X-ADDRESS=Veterans United Home Loans Amphitheater 3550 Cellar Door Way Virginia Beach VA 23456 United States;X-APPLE-RADIUS=500;X-TITLE=3550 Cellar Door Way:geo:-76.1039103,36.7691045
END:VEVENT
BEGIN:VEVENT
DTSTART;TZID=America/New_York:20230908T173000
DTEND;TZID=America/New_York:20230908T223000
DTSTAMP:20260423T101801
CREATED:20230908T213000Z
LAST-MODIFIED:20230912T131553Z
UID:70435-1694194200-1694212200@www.classicrock965.fm
SUMMARY:The Black Crowes at After Hours Concert Series
DESCRIPTION:Tickets on sale Friday\, June 16.
URL:https://www.classicrock965.fm/event/the-black-crowes-at-after-hours-concert-series/
LOCATION:The Atlantic Union Bank After Hours at the SERVPRO Pavilion\, 13191 Dawn Boulevard\, Doswell\, VA\, 23047\, United States
CATEGORIES:Concert
ATTACH;FMTTYPE=image/jpeg:https://dehayf5mhw1h7.cloudfront.net/wp-content/uploads/sites/1853/2023/06/12093234/K95-1000x563-Black-Crowes.jpg
GEO:37.8523626;-77.4237592
X-APPLE-STRUCTURED-LOCATION;VALUE=URI;X-ADDRESS=The Atlantic Union Bank After Hours at the SERVPRO Pavilion 13191 Dawn Boulevard Doswell VA 23047 United States;X-APPLE-RADIUS=500;X-TITLE=13191 Dawn Boulevard:geo:-77.4237592,37.8523626
END:VEVENT
BEGIN:VEVENT
DTSTART;TZID=America/New_York:20230922T163000
DTEND;TZID=America/New_York:20230922T223000
DTSTAMP:20260423T101801
CREATED:20230911T144329Z
LAST-MODIFIED:20230911T144329Z
UID:71190-1695400200-1695421800@www.classicrock965.fm
SUMMARY:K95 Countryfest 2023
DESCRIPTION:We can’t wait to see you at K95 Countryfest 2023\, Friday\, September 22 at After Hours Concert Series at The Meadow Event Park\nfeaturing… \nPARKER MCCOLLUM \nJACKSON DEAN \nCATIE OFFERMAN \nGET TICKETS 
URL:https://www.classicrock965.fm/event/k95-countryfest-2023/
LOCATION:The Atlantic Union Bank After Hours at the SERVPRO Pavilion\, 13191 Dawn Boulevard\, Doswell\, VA\, 23047\, United States
CATEGORIES:Concert
ATTACH;FMTTYPE=image/jpeg:https://dehayf5mhw1h7.cloudfront.net/wp-content/uploads/sites/1853/2023/09/11103950/parkerlg.jpg
GEO:37.8523626;-77.4237592
X-APPLE-STRUCTURED-LOCATION;VALUE=URI;X-ADDRESS=The Atlantic Union Bank After Hours at the SERVPRO Pavilion 13191 Dawn Boulevard Doswell VA 23047 United States;X-APPLE-RADIUS=500;X-TITLE=13191 Dawn Boulevard:geo:-77.4237592,37.8523626
END:VEVENT
BEGIN:VEVENT
DTSTART;TZID=America/New_York:20230924T130000
DTEND;TZID=America/New_York:20230924T203000
DTSTAMP:20260423T101801
CREATED:20230920T184936Z
LAST-MODIFIED:20230920T184949Z
UID:71282-1695560400-1695587400@www.classicrock965.fm
SUMMARY:ROCK/REWIND AND ROCK RIDE GIVEAWAY
DESCRIPTION:featuring TEAZE: 100% Hair Metal\, For Those About to Rock\, Double Down\, and Elixir\n \nDoors: 1:00pm. Showtime: 1:30pm\n \nAll previously purchased tickets from April 22 are valid for the new date. \nKobe from Classic Rock 96.5 will be on location from 3 to 5pm with 96 finalists for the RVA Rock Ride giveaway!
URL:https://www.classicrock965.fm/event/rock-rewind-and-rock-ride-giveaway/
LOCATION:Richmond Harley Davidson\, 12200 HARLEY CLUB DR\, ASHLAND\, VA\, 23005\, United States
CATEGORIES:Concert
ATTACH;FMTTYPE=image/jpeg:https://dehayf5mhw1h7.cloudfront.net/wp-content/uploads/sites/1853/2023/09/20144115/RockRewind.jpg
GEO:37.7292981;-77.4520904
X-APPLE-STRUCTURED-LOCATION;VALUE=URI;X-ADDRESS=Richmond Harley Davidson 12200 HARLEY CLUB DR ASHLAND VA 23005 United States;X-APPLE-RADIUS=500;X-TITLE=12200 HARLEY CLUB DR:geo:-77.4520904,37.7292981
END:VEVENT
BEGIN:VEVENT
DTSTART;TZID=America/New_York:20230930T110000
DTEND;TZID=America/New_York:20230930T180000
DTSTAMP:20260423T101801
CREATED:20230915T153541Z
LAST-MODIFIED:20230915T153541Z
UID:71238-1696071600-1696096800@www.classicrock965.fm
SUMMARY:Festival of Grapes and Hops
DESCRIPTION:
URL:https://www.classicrock965.fm/event/festival-of-grapes-and-hops/
LOCATION:Old Towne Petersburg Harbor\, 277 River St\, Petersburg\, VA
CATEGORIES:Community Events
ATTACH;FMTTYPE=image/png:https://dehayf5mhw1h7.cloudfront.net/wp-content/uploads/sites/1853/2023/09/15112946/Grapes-and-Hops-1000-%C3%97-563-px.png
GEO:37.233821;-77.398664
X-APPLE-STRUCTURED-LOCATION;VALUE=URI;X-ADDRESS=Old Towne Petersburg Harbor 277 River St Petersburg VA;X-APPLE-RADIUS=500;X-TITLE=277 River St:geo:-77.398664,37.233821
END:VEVENT
BEGIN:VEVENT
DTSTART;VALUE=DATE:20231006
DTEND;VALUE=DATE:20231009
DTSTAMP:20260423T101801
CREATED:20230925T112629Z
LAST-MODIFIED:20231009T133425Z
UID:71317-1696550400-1696809599@www.classicrock965.fm
SUMMARY:Overland Expo EAST 2023
DESCRIPTION:Overland Expo is the premier overlanding event series in the world \nNo other event offers the scope of classes taught by the world’s leading experts alongside a professional-level trade show that brings together all the camping and vehicle and motorcycle equipment and services you need! \nOctober 6 – 8am to 5pm \nOctober 7 – 8am to 5pm \nOctober 8 – 8am to 3pm \n 
URL:https://www.classicrock965.fm/event/overland-expo-east-2023/
LOCATION:Oak Ridge Estates\, Arrington\, VA\, United States
ATTACH;FMTTYPE=image/jpeg:https://dehayf5mhw1h7.cloudfront.net/wp-content/uploads/sites/1853/2023/09/25072528/OverlandExpo2023.jpg
GEO:37.6840306;-78.9011326
END:VEVENT
BEGIN:VEVENT
DTSTART;TZID=America/New_York:20231006T200000
DTEND;TZID=America/New_York:20231006T230000
DTSTAMP:20260423T101801
CREATED:20231007T000000Z
LAST-MODIFIED:20231009T133632Z
UID:71353-1696622400-1696633200@www.classicrock965.fm
SUMMARY:Kathleen Madigan at Dominion Energy Center
DESCRIPTION:
URL:https://www.classicrock965.fm/event/kathleen-madigan-at-dominion-energy-center/
LOCATION:Dominion Energy Center\, 600 East Grace Street\, Richmond\, VA\, 23219\, United States
ATTACH;FMTTYPE=image/png:https://dehayf5mhw1h7.cloudfront.net/wp-content/uploads/sites/1853/2023/10/02071634/WKLR-1000x563-1.png
END:VEVENT
BEGIN:VEVENT
DTSTART;TZID=America/New_York:20231007T090000
DTEND;TZID=America/New_York:20231007T160000
DTSTAMP:20260423T101801
CREATED:20230911T113941Z
LAST-MODIFIED:20231009T133414Z
UID:71181-1696669200-1696694400@www.classicrock965.fm
SUMMARY:Green Top Outdoor Expo 2023
DESCRIPTION:Save the dates!\nOctober 7 and 8 is Green Top‘s Outdoor Expo! \nOver 225 vendors\, prizes and contests\, live music\, food product demonstrations and seminars \nSome activities and demonstrations include Ultimate Air Dogs\, Scavenger Hunt\, Berkley Experience Trailer and Big Brands Demo Days at the shooting range! \nAdmission is free!
URL:https://www.classicrock965.fm/event/green-top-outdoor-expo-2023/
LOCATION:Green Top\, Ashland\, Virginia\, 23005
ATTACH;FMTTYPE=image/jpeg:https://dehayf5mhw1h7.cloudfront.net/wp-content/uploads/sites/1853/2023/09/11113941/GreenTopEXpoLgNok95.jpg
GEO:37.7590318;-77.4799837
END:VEVENT
BEGIN:VEVENT
DTSTART;TZID=America/New_York:20231008T090000
DTEND;TZID=America/New_York:20231008T160000
DTSTAMP:20260423T101801
CREATED:20230911T113941Z
LAST-MODIFIED:20230911T114400Z
UID:71184-1696755600-1696780800@www.classicrock965.fm
SUMMARY:Green Top Outdoor Expo 2023
DESCRIPTION:Save the dates!\nOctober 7 and 8 is Green Top‘s Outdoor Expo! \nOver 225 vendors\, prizes and contests\, live music\, food product demonstrations and seminars \nSome activities and demonstrations include Ultimate Air Dogs\, Scavenger Hunt\, Berkley Experience Trailer and Big Brands Demo Days at the shooting range! \nAdmission is free!
URL:https://www.classicrock965.fm/event/green-top-outdoor-expo-2023-2023-10-08/
LOCATION:Green Top\, Ashland\, Virginia\, 23005
ATTACH;FMTTYPE=image/jpeg:https://dehayf5mhw1h7.cloudfront.net/wp-content/uploads/sites/1853/2023/09/11113941/GreenTopEXpoLgNok95.jpg
GEO:37.7590318;-77.4799837
END:VEVENT
BEGIN:VEVENT
DTSTART;VALUE=DATE:20231013
DTEND;VALUE=DATE:20231016
DTSTAMP:20260423T101801
CREATED:20230925T121120Z
LAST-MODIFIED:20230925T121120Z
UID:71320-1697155200-1697414399@www.classicrock965.fm
SUMMARY:Richmond Folk Festival
DESCRIPTION:The Richmond Folk Festival will return in the fall to celebrate its 19th anniversary the weekend of October 13-15\, 2023. The festival has become one of Virginia’s largest\, drawing fans each year to downtown Richmond’s riverfront to celebrate the roots\, richness\, and variety of American culture through music\, dance\, traditional crafts\, storytelling\, and food. Featuring six stages and showcasing music and dance from more than 30 artists from around the nation and the world\, the Richmond Folk Festival promises\, as always\, to return with a culturally diverse and impressive program. \nThe free\, three-day event is presented by Venture Richmond Events\, in partnership with the National Council for the Traditional Arts (NCTA)\, the Center for Cultural Vibrancy\, Virginia Humanities\, the Children’s Museum\, and the City of Richmond. \nFriday\, October 13 — 6:30pm – 10:00pm\nSaturday\, October 14 — 12:00pm – 9:30pm\nSunday\, October 15 — 12:00pm – 6:00pm \n 
URL:https://www.classicrock965.fm/event/richmond-folk-festival-2/
LOCATION:Brown’s Island\, VA\, United States
ATTACH;FMTTYPE=image/jpeg:https://dehayf5mhw1h7.cloudfront.net/wp-content/uploads/sites/1853/2023/09/25081034/RichmondFolkFestivallg.jpg
END:VEVENT
BEGIN:VEVENT
DTSTART;TZID=America/New_York:20231107T200000
DTEND;TZID=America/New_York:20231107T230000
DTSTAMP:20260423T101801
CREATED:20230605T213200Z
LAST-MODIFIED:20230612T133730Z
UID:70381-1699387200-1699398000@www.classicrock965.fm
SUMMARY:Bill Burr at Norfolk Scope Arena
DESCRIPTION:
URL:https://www.classicrock965.fm/event/bill-burr-at-norfolk-scope-arena/
LOCATION:Norfolk Scope Arena\, 201 E Brambleton Ave\, Norfolk\, Virginia
ATTACH;FMTTYPE=image/jpeg:https://dehayf5mhw1h7.cloudfront.net/wp-content/uploads/sites/1853/2023/06/05173149/BillBurrlg.jpg
GEO:36.8520783;-76.2862427
X-APPLE-STRUCTURED-LOCATION;VALUE=URI;X-ADDRESS=Norfolk Scope Arena 201 E Brambleton Ave Norfolk Virginia;X-APPLE-RADIUS=500;X-TITLE=201 E Brambleton Ave:geo:-76.2862427,36.8520783
END:VEVENT
BEGIN:VEVENT
DTSTART;TZID=America/New_York:20231115T193000
DTEND;TZID=America/New_York:20231115T223000
DTSTAMP:20260423T101801
CREATED:20230424T140042Z
LAST-MODIFIED:20240102T145422Z
UID:70033-1700076600-1700087400@www.classicrock965.fm
SUMMARY:Dr. Neil deGrasse Tyson: Cosmic Collisions at Altria Theater
DESCRIPTION:Tickets on sale Friday\, April 28 at 10AM!
URL:https://www.classicrock965.fm/event/dr-neil-degrasse-tyson-cosmic-collisions-at-altria-theater/
LOCATION:Altria Theater\, 6 N Laurel St\, Richmond\, VA\, 23220\, United States
CATEGORIES:Event
ATTACH;FMTTYPE=image/png:https://dehayf5mhw1h7.cloudfront.net/wp-content/uploads/sites/1853/2023/04/24093255/Neillrg.png
GEO:37.5462249;-77.4521586
X-APPLE-STRUCTURED-LOCATION;VALUE=URI;X-ADDRESS=Altria Theater 6 N Laurel St Richmond VA 23220 United States;X-APPLE-RADIUS=500;X-TITLE=6 N Laurel St:geo:-77.4521586,37.5462249
END:VEVENT
END:VCALENDAR